BEGIN:VCALENDAR
VERSION:2.0
PRODID:-//wp-events-plugin.com//7.2.3.1//EN
BEGIN:VEVENT
UID:2@lerucherdesvignes.fr
DTSTART:20260520T210000Z
DTEND:20260520T210000Z
DTSTAMP:20260418T204211Z
URL:https://lerucherdesvignes.fr/Agenda/conseil-municipal/
SUMMARY:Conseil municipal
DESCRIPTION:
LOCATION:Place de la mairie\, 1 place de la mairie\, Boussay\, 37290\, Fran
 ce
X-APPLE-STRUCTURED-LOCATION;VALUE=URI;X-ADDRESS=1 place de la mairie\, Bous
 say\, 37290\, France;X-APPLE-RADIUS=100;X-TITLE=Place de la mairie:geo:0,0
END:VEVENT
END:VCALENDAR