BEGIN:VCALENDAR
VERSION:2.0
PRODID:-//wp-events-plugin.com//7.2.3.1//EN
BEGIN:VEVENT
UID:5@lerucherdesvignes.fr
DTSTART:20260422T000000Z
DTEND:20260422T000000Z
DTSTAMP:20260418T212044Z
URL:https://lerucherdesvignes.fr/Agenda/essai-3/
SUMMARY:Essai 3
DESCRIPTION:
END:VEVENT
END:VCALENDAR