BEGIN:VCALENDAR
VERSION:2.0
PRODID:-//wp-events-plugin.com//7.2.3.1//EN
BEGIN:VEVENT
UID:4@lerucherdesvignes.fr
DTSTART:20260422T000000Z
DTEND:20260422T000000Z
DTSTAMP:20260418T211915Z
URL:https://lerucherdesvignes.fr/Agenda/essai2/
SUMMARY:Essai2
DESCRIPTION:
END:VEVENT
END:VCALENDAR