BEGIN:VCALENDAR
VERSION:2.0
PRODID:-//wp-events-plugin.com//7.2.3.1//EN
BEGIN:VEVENT
UID:1@lerucherdesvignes.fr
DTSTART:20260430T163000Z
DTEND:20270412T193000Z
DTSTAMP:20260418T203810Z
URL:https://lerucherdesvignes.fr/Agenda/october-regular-council-meeting/
SUMMARY:(October) Regular Council Meeting
DESCRIPTION:Town Of Pine Works regular city council meeting.
ATTACH;FMTTYPE=image/jpeg:https://lerucherdesvignes.fr/wp-content/uploads/
 2018/09/edit-gadsden-1616084_1920.jpg
CATEGORIES:Council Meetings
LOCATION:Place de la mairie\, 1 place de la mairie\, Boussay\, 37290\, Fran
 ce
X-APPLE-STRUCTURED-LOCATION;VALUE=URI;X-ADDRESS=1 place de la mairie\, Bous
 say\, 37290\, France;X-APPLE-RADIUS=100;X-TITLE=Place de la mairie:geo:0,0
END:VEVENT
END:VCALENDAR